Workbook
Name Hidden_13: Hidden_1!$A$1:$A$11
Name Hidden_211: Hidden_2!$A$1:$A$2
Name Hidden_312: Hidden_3!$A$1:$A$2
Name Hidden_414: Hidden_4!$A$1:$A$2

Sheet Reporte de Formatos
A1: 44223
A2: TÍTULO | D2: NOMBRE CORTO | G2: DESCRIPCIÓN
A3: Gastos por concepto de viáticos y representación | D3: a69_f9 | G3: La información sobre los gastos erogados y asignados a los Servicios de Traslado y Viáticos así como los gastos de representación. Además se difundirá la información relativa a estos conceptos respecto de los integrantes, miembros y/o toda persona que desempeñe un empleo, cargo o comisión en los sujetos obligados o ejerza actos de autoridad en los mismos, incluso cuando estas comisiones oficiales no supongan el ejercicio de recursos económicos.
A4: 1 | B4: 4 | C4: 4 | D4: 9 | E4: 1 | F4: 2 | G4: 2 | H4: 2 | I4: 1 | J4: 1 | K4: 1 | L4: 9 | M4: 9 | N4: 1 | O4: 9 | P4: 3 | Q4: 6 | R4: 1 | S4: 1 | T4: 1 | U4: 1 | V4: 1 | W4: 1 | X4: 2 | Y4: 4 | Z4: 4 | AA4: 10 | AB4: 6 | AC4: 6 | AD4: 4 | AE4: 7 | AF4: 10 | AG4: 7 | AH4: 2 | AI4: 13 | AJ4: 14
A5: 350039 | B5: 350062 | C5: 350063 | D5: 570761 | E5: 350058 | F5: 350046 | G5: 350047 | H5: 350064 | I5: 350036 | J5: 350037 | K5: 350038 | L5: 570762 | M5: 350061 | N5: 350043 | O5: 350068 | P5: 350049 | Q5: 350053 | R5: 350044 | S5: 350045 | T5: 350065 | U5: 350040 | V5: 350041 | W5: 350042 | X5: 350048 | Y5: 350051 | Z5: 350052 | AA5: 350055 | AB5: 536105 | AC5: 536139 | AD5: 350066 | AE5: 350054 | AF5: 350056 | AG5: 350067 | AH5: 350060 | AI5: 350035 | AJ5: 350059
A6: Tabla Campos
A7: Ejercicio | B7: Fecha de inicio del periodo que se informa | C7: Fecha de término del periodo que se informa | D7: ESTE CRITERIO APLICA A PARTIR DEL 01/04/2023 -> Tipo de integrante del sujeto obligado (catálogo) | E7: Clave o nivel del puesto | F7: Denominación del puesto (Redactados con perspectiva de género) | G7: Denominación del cargo | H7: Área de adscripción | I7: Nombre(s) | J7: Primer apellido | K7: Segundo apellido | L7: ESTE CRITERIO APLICA A PARTIR DEL 01/04/2023 -> Sexo (catálogo) | M7: Tipo de gasto (Catálogo) | N7: Denominación del encargo o comisión | O7: Tipo de viaje (catálogo) | P7: Número de personas acompañantes en el encargo o comisión | Q7: Importe ejercido por el total de acompañantes | R7: País origen del encargo o comisión | S7: Estado origen del encargo o comisión | T7: Ciudad origen del encargo o comisión | U7: País destino del encargo o comisión | V7: Estado destino del encargo o comisión | W7: Ciudad destino del encargo o comisión | X7: Motivo del encargo o comisión | Y7: Fecha de salida del encargo o comisión | Z7: Fecha de regreso del encargo o comisión | AA7: Importe ejercido por partida por concepto Tabla_350055 | AB7: Importe total erogado con motivo del encargo o comisión | AC7: Importe total de gastos no erogados derivados del encargo o comisión | AD7: Fecha de entrega del informe de la comisión o encargo | AE7: Hipervínculo al informe de la comisión o encargo encomendado | AF7: Hipervínculo a las facturas o comprobantes. Tabla_350056 | AG7: Hipervínculo a normativa que regula los gastos por concepto de viáticos y gastos de representación | AH7: Área(s) responsable(s) que genera(n), posee(n), publica(n) y actualizan la información | AI7: Fecha de actualización | AJ7: Nota
A8: 2026 | B8: 46113 | C8: 46203 | D8: Personal de confianza | E8: D-A11B | F8: Profesor de Asignatura | G8: Profesor de Asignatura de la Universidad Tecnológica Minera de Zimapán | H8: Dirección Académica | I8: Erick Iván | J8: Rivera | K8: Villanueva | L8: Hombre | M8: Viáticos | N8: Asistir a la Ciudad de México, al Puesto Central de Control II (PCC II) del metro de la CDMX. | O8: Nacional | P8: 0 | Q8: 0 | R8: México | S8: Hidalgo | T8: Zimapán | U8: México | V8: Ciudad de México | W8: Ciudad de México | X8: Asistir a la Ciudad de México, al Puesto Central de Control II (PCC II) del metro de la CDMX. | Y8: 46112 | Z8: 46112 | AA8: 1 | AB8: 130 | AC8: 0 | AD8: 46112 | AE8: https://www.utmz.edu.mx/pages/transparencia/finanzas/2026/2trim/F9/Informes/Informe01.pdf | AF8: 1 | AG8: https://hacienda.hidalgo.gob.mx/files/servicios/pdf/EjerciciodelPresupuesto/2025/Manual%20de%20Normas%20y%20Lineamientos%20para%20el%20Ejercicio%20de%20los%20Recursos%20del%20Gasto%20de%20Operacion%202025.pdf | AH8: Departamento de Finanzas (UTMZ) | AI8: 46213 | AJ8: En el periodo que se reporta la Universidad Tecnológica Minera de Zimapán informa que en el criterio Fecha de salida y Fecha de regreso del encargo o comisión, no corresponde la fecha al trimestre que se reporta derivado de que los gastos que se generaron en este comisión fueron erogados en el presente trimestre.
A9: 2026 | B9: 46113 | C9: 46203 | D9: Personal de confianza | E9: 8C | F9: Coordinador (Coordinación) | G9: Coordinador de Recursos Materiales de la Universidad Tecnológica Minera de Zimapán | H9: Dirección de Administración y Finanzas | I9: Luis Roberto | J9: Federico | K9: Zúñiga | L9: Hombre | M9: Viáticos | N9: Asistir a la Ciudad de Pachuca, a llevar camioneta a verificación, así como a recoger insumos de cafetería y papelería. | O9: Nacional | P9: 0 | Q9: 0 | R9: México | S9: Hidalgo | T9: Zimapán | U9: México | V9: Hidalgo | W9: Ciudad de Pachuca | X9: Asistir a la Ciudad de Pachuca, a llevar camioneta a verificación, así como a recoger insumos de cafetería y papelería. | Y9: 46112 | Z9: 46112 | AA9: 2 | AB9: 130 | AC9: 0 | AD9: 46112 | AE9: https://www.utmz.edu.mx/pages/transparencia/finanzas/2026/2trim/F9/Informes/Informe02.pdf | AF9: 2 | AG9: https://hacienda.hidalgo.gob.mx/files/servicios/pdf/EjerciciodelPresupuesto/2025/Manual%20de%20Normas%20y%20Lineamientos%20para%20el%20Ejercicio%20de%20los%20Recursos%20del%20Gasto%20de%20Operacion%202025.pdf | AH9: Departamento de Finanzas (UTMZ) | AI9: 46213 | AJ9: En el periodo que se reporta la Universidad Tecnológica Minera de Zimapán informa que en el criterio Fecha de salida y Fecha de regreso del encargo o comisión, no corresponde la fecha al trimestre que se reporta derivado de que los gastos que se generaron en este comisión fueron erogados en el presente trimestre.
A10: 2026 | B10: 46113 | C10: 46203 | D10: Personal de confianza | E10: 11 | F10: Directora de área (Dirección de área) | G10: Directora de Administración y Finanzas de la Universidad Tecnológica Minera de Zimapán | H10: Dirección de Administración y Finanzas | I10: Olivia Nazareth | J10: Ramírez | K10: Alvarado | L10: Mujer | M10: Viáticos | N10: Asistir a la Ciudad de Pachuca, recabar firmas para solventación de auditoria de Cuenta Pública 2024, así como a la entrega de dictamen de auditoria externa del ejercicio fiscal 2025. | O10: Nacional | P10: 0 | Q10: 0 | R10: México | S10: Hidalgo | T10: Zimapán | U10: México | V10: Hidalgo | W10: Ciudad de Pachuca | X10: Asistir a la Ciudad de Pachuca, recabar firmas para solventación de auditoria de Cuenta Pública 2024, así como a la entrega de dictamen de auditoria externa del ejercicio fiscal 2025. | Y10: 46120 | Z10: 46120 | AA10: 3 | AB10: 540 | AC10: 0 | AD10: 46125 | AE10: https://www.utmz.edu.mx/pages/transparencia/finanzas/2026/2trim/F9/Informes/Informe03.pdf | AF10: 3 | AG10: https://hacienda.hidalgo.gob.mx/files/servicios/pdf/EjerciciodelPresupuesto/2025/Manual%20de%20Normas%20y%20Lineamientos%20para%20el%20Ejercicio%20de%20los%20Recursos%20del%20Gasto%20de%20Operacion%202025.pdf | AH10: Departamento de Finanzas (UTMZ) | AI10: 46213
A11: 2026 | B11: 46113 | C11: 46203 | D11: Personal de confianza | E11: 8A | F11: Chofer | G11: Chofer de la Universidad Tecnológica Minera de Zimapán | H11: Dirección de Administración y Finanzas | I11: Bonifacio | J11: Hernández | K11: Cordero | L11: Hombre | M11: Viáticos | N11: Asistir a la Ciudad de Pachuca, a llevar a personal a entregar información en Palacio de Gobierno en Contabilidad Gubernamental, así como en SEMSyS. | O11: Nacional | P11: 0 | Q11: 0 | R11: México | S11: Hidalgo | T11: Zimapán | U11: México | V11: Hidalgo | W11: Ciudad de Pachuca | X11: Asistir a la Ciudad de Pachuca, a llevar a personal a entregar información en Palacio de Gobierno en Contabilidad Gubernamental, así como en SEMSyS. | Y11: 46129 | Z11: 46129 | AA11: 4 | AB11: 128.58 | AC11: 0 | AD11: 46132 | AE11: https://www.utmz.edu.mx/pages/transparencia/finanzas/2026/2trim/F9/Informes/Informe04.pdf | AF11: 4 | AG11: https://hacienda.hidalgo.gob.mx/files/servicios/pdf/EjerciciodelPresupuesto/2025/Manual%20de%20Normas%20y%20Lineamientos%20para%20el%20Ejercicio%20de%20los%20Recursos%20del%20Gasto%20de%20Operacion%202025.pdf | AH11: Departamento de Finanzas (UTMZ) | AI11: 46213
A12: 2026 | B12: 46113 | C12: 46203 | D12: Personal de confianza | E12: 6A | F12: Analista Administrativo | G12: Analista Administrativo de la Universidad Tecnológica Minera de Zimapán | H12: Dirección de Administración y Finanzas | I12: Ricardo Enrique | J12: Alvarado | K12: Cruz | L12: Hombre | M12: Viáticos | N12: Asistir a la Ciudad de Pachuca, a Palacio de Gobierno en Contabilidad Gubernamental, así como a correspondencia de la Secretaria de Hacienda, de igual forma en SEMSyS. | O12: Nacional | P12: 0 | Q12: 0 | R12: México | S12: Hidalgo | T12: Zimapán | U12: México | V12: Hidalgo | W12: Ciudad de Pachuca | X12: Asistir a la Ciudad de Pachuca, a Palacio de Gobierno en Contabilidad Gubernamental, así como a correspondencia de la Secretaria de Hacienda, de igual forma en SEMSyS. | Y12: 46129 | Z12: 46129 | AA12: 5 | AB12: 128.58 | AC12: 0 | AD12: 46132 | AE12: https://www.utmz.edu.mx/pages/transparencia/finanzas/2026/2trim/F9/Informes/Informe05.pdf | AF12: 5 | AG12: https://hacienda.hidalgo.gob.mx/files/servicios/pdf/EjerciciodelPresupuesto/2025/Manual%20de%20Normas%20y%20Lineamientos%20para%20el%20Ejercicio%20de%20los%20Recursos%20del%20Gasto%20de%20Operacion%202025.pdf | AH12: Departamento de Finanzas (UTMZ) | AI12: 46213
A13: 2026 | B13: 46113 | C13: 46203 | D13: Personal de confianza | E13: 8A | F13: Jefe de Oficina (Jefatura de Oficina ) | G13: Jefe de Oficina de Mantenimiento de la Universidad Tecnológica Minera de Zimapán | H13: Dirección de Administración y Finanzas | I13: Alonso | J13: Godínez | K13: Barrera | L13: Hombre | M13: Viáticos | N13: Asistir a la Ciudad de Pachuca, a llevar camioneta Nissan por cuarta ocasión para verificación por parte de la oficialía mayor. | O13: Nacional | P13: 0 | Q13: 0 | R13: México | S13: Hidalgo | T13: Zimapán | U13: México | V13: Hidalgo | W13: Ciudad de Pachuca | X13: Asistir a la Ciudad de Pachuca, a llevar camioneta Nissan por cuarta ocasión para verificación por parte de la oficialía mayor. | Y13: 46128 | Z13: 46128 | AA13: 6 | AB13: 130 | AC13: 0 | AD13: 46129 | AE13: https://www.utmz.edu.mx/pages/transparencia/finanzas/2026/2trim/F9/Informes/Informe06.pdf | AF13: 6 | AG13: https://hacienda.hidalgo.gob.mx/files/servicios/pdf/EjerciciodelPresupuesto/2025/Manual%20de%20Normas%20y%20Lineamientos%20para%20el%20Ejercicio%20de%20los%20Recursos%20del%20Gasto%20de%20Operacion%202025.pdf | AH13: Departamento de Finanzas (UTMZ) | AI13: 46213
A14: 2026 | B14: 46113 | C14: 46203 | D14: Personal de confianza | E14: 8A | F14: Chofer | G14: Chofer de la Universidad Tecnológica Minera de Zimapán | H14: Dirección de Administración y Finanzas | I14: Bonifacio | J14: Hernández | K14: Cordero | L14: Hombre | M14: Viáticos | N14: Asistir a la Ciudad de México, a llevar alumnos de la carrera de logística a Marínela Azcapotzalco a visita industrial. | O14: Nacional | P14: 0 | Q14: 0 | R14: México | S14: Hidalgo | T14: Zimapán | U14: México | V14: Ciudad de México | W14: Ciudad de México | X14: Asistir a la Ciudad de México, a llevar alumnos de la carrera de logística a Marínela Azcapotzalco a visita industrial. | Y14: 46126 | Z14: 46126 | AA14: 7 | AB14: 130 | AC14: 0 | AD14: 46127 | AE14: https://www.utmz.edu.mx/pages/transparencia/finanzas/2026/2trim/F9/Informes/Informe07.pdf | AF14: 7 | AG14: https://hacienda.hidalgo.gob.mx/files/servicios/pdf/EjerciciodelPresupuesto/2025/Manual%20de%20Normas%20y%20Lineamientos%20para%20el%20Ejercicio%20de%20los%20Recursos%20del%20Gasto%20de%20Operacion%202025.pdf | AH14: Departamento de Finanzas (UTMZ) | AI14: 46213
A15: 2026 | B15: 46113 | C15: 46203 | D15: Personal de confianza | E15: 9 | F15: Jefa de departamento (Jefatura de departamento) | G15: Jefa del Departamento Jurídico de la Universidad Tecnológica Minera de Zimapán | H15: Dirección de Vinculación | I15: María Guadalupe | J15: Contreras | K15: Contreras | L15: Mujer | M15: Viáticos | N15: Asistir a la Ciudad de Pachuca, a entregar convocatorias de la IV Y V Sesión Extraordinaria y III Ordinaria 2026. | O15: Nacional | P15: 0 | Q15: 0 | R15: México | S15: Hidalgo | T15: Zimapán | U15: México | V15: Hidalgo | W15: Ciudad de Pachuca | X15: Asistir a la Ciudad de Pachuca, a entregar convocatorias de la IV Y V Sesión Extraordinaria y III Ordinaria 2026. | Y15: 46132 | Z15: 46132 | AA15: 8 | AB15: 124 | AC15: 0 | AD15: 46142 | AE15: https://www.utmz.edu.mx/pages/transparencia/finanzas/2026/2trim/F9/Informes/Informe08.pdf | AF15: 8 | AG15: https://hacienda.hidalgo.gob.mx/files/servicios/pdf/EjerciciodelPresupuesto/2025/Manual%20de%20Normas%20y%20Lineamientos%20para%20el%20Ejercicio%20de%20los%20Recursos%20del%20Gasto%20de%20Operacion%202025.pdf | AH15: Departamento de Finanzas (UTMZ) | AI15: 46213
A16: 2026 | B16: 46113 | C16: 46203 | D16: Personal de confianza | E16: 9 | F16: Jefa de departamento (Jefatura de departamento) | G16: Jefa del Departamento Jurídico de la Universidad Tecnológica Minera de Zimapán | H16: Dirección de Vinculación | I16: María Guadalupe | J16: Contreras | K16: Contreras | L16: Mujer | M16: Viáticos | N16: Asistir a la Ciudad de Pachuca, a recabar firmas de la I Sesión Extraordinaria y I Sesión Ordinario 2026. | O16: Nacional | P16: 0 | Q16: 0 | R16: México | S16: Hidalgo | T16: Zimapán | U16: México | V16: Hidalgo | W16: Ciudad de Pachuca | X16: Asistir a la Ciudad de Pachuca, a recabar firmas de la I Sesión Extraordinaria y I Sesión Ordinario 2026. | Y16: 46136 | Z16: 46136 | AA16: 9 | AB16: 120 | AC16: 0 | AD16: 46142 | AE16: https://www.utmz.edu.mx/pages/transparencia/finanzas/2026/2trim/F9/Informes/Informe09.pdf | AF16: 9 | AG16: https://hacienda.hidalgo.gob.mx/files/servicios/pdf/EjerciciodelPresupuesto/2025/Manual%20de%20Normas%20y%20Lineamientos%20para%20el%20Ejercicio%20de%20los%20Recursos%20del%20Gasto%20de%20Operacion%202025.pdf | AH16: Departamento de Finanzas (UTMZ) | AI16: 46213
A17: 2026 | B17: 46113 | C17: 46203 | D17: Personal de confianza | E17: 8A | F17: Chofer | G17: Chofer de la Universidad Tecnológica Minera de Zimapán | H17: Dirección de Administración y Finanzas | I17: Bonifacio | J17: Hernández | K17: Cordero | L17: Hombre | M17: Viáticos | N17: Asistir a la Ciudad de Pachuca, a entrega de convocatorias de la universidad. | O17: Nacional | P17: 0 | Q17: 0 | R17: México | S17: Hidalgo | T17: Zimapán | U17: México | V17: Hidalgo | W17: Ciudad de Pachuca | X17: Asistir a la Ciudad de Pachuca, a entrega de convocatorias de la universidad. | Y17: 46132 | Z17: 46132 | AA17: 10 | AB17: 124 | AC17: 0 | AD17: 46133 | AE17: https://www.utmz.edu.mx/pages/transparencia/finanzas/2026/2trim/F9/Informes/Informe10.pdf | AF17: 10 | AG17: https://hacienda.hidalgo.gob.mx/files/servicios/pdf/EjerciciodelPresupuesto/2025/Manual%20de%20Normas%20y%20Lineamientos%20para%20el%20Ejercicio%20de%20los%20Recursos%20del%20Gasto%20de%20Operacion%202025.pdf | AH17: Departamento de Finanzas (UTMZ) | AI17: 46213
A18: 2026 | B18: 46113 | C18: 46203 | D18: Personal de confianza | E18: 6A | F18: Analista Administrativo | G18: Analista Administrativo de la Universidad Tecnológica Minera de Zimapán | H18: Dirección de Administración y Finanzas | I18: Ricardo Enrique | J18: Alvarado | K18: Cruz | L18: Hombre | M18: Viáticos | N18: Asistir a la Ciudad de Pachuca, a Palacio de Gobierno en Contabilidad Gubernamental a recoger oficio referente a Conciliación del 1er trimestre de las Ministraciones 2026. | O18: Nacional | P18: 0 | Q18: 0 | R18: México | S18: Hidalgo | T18: Zimapán | U18: México | V18: Hidalgo | W18: Ciudad de Pachuca | X18: Asistir a la Ciudad de Pachuca, a Palacio de Gobierno en Contabilidad Gubernamental a recoger oficio referente a Conciliación del 1er trimestre de las Ministraciones 2026. | Y18: 46135 | Z18: 46135 | AA18: 11 | AB18: 129 | AC18: 0 | AD18: 46136 | AE18: https://www.utmz.edu.mx/pages/transparencia/finanzas/2026/2trim/F9/Informes/Informe11.pdf | AF18: 11 | AG18: https://hacienda.hidalgo.gob.mx/files/servicios/pdf/EjerciciodelPresupuesto/2025/Manual%20de%20Normas%20y%20Lineamientos%20para%20el%20Ejercicio%20de%20los%20Recursos%20del%20Gasto%20de%20Operacion%202025.pdf | AH18: Departamento de Finanzas (UTMZ) | AI18: 46213
A19: 2026 | B19: 46113 | C19: 46203 | D19: Personal de confianza | E19: 6A | F19: Analista Administrativo | G19: Analista Administrativo de la Universidad Tecnológica Minera de Zimapán | H19: Dirección de Administración y Finanzas | I19: Ricardo Enrique | J19: Alvarado | K19: Cruz | L19: Hombre | M19: Viáticos | N19: Asistir a la Ciudad de Ixmiquilpan, a recoger prendas de trajes típicos para paraescolares de la UTMZ. | O19: Nacional | P19: 0 | Q19: 0 | R19: México | S19: Hidalgo | T19: Zimapán | U19: México | V19: Hidalgo | W19: Ciudad de Ixmiquilpan | X19: Asistir a la Ciudad de Ixmiquilpan, a recoger prendas de trajes típicos para paraescolares de la UTMZ. | Y19: 46150 | Z19: 46150 | AA19: 12 | AB19: 130 | AC19: 0 | AD19: 46153 | AE19: https://www.utmz.edu.mx/pages/transparencia/finanzas/2026/2trim/F9/Informes/Informe12.pdf | AF19: 12 | AG19: https://hacienda.hidalgo.gob.mx/files/servicios/pdf/EjerciciodelPresupuesto/2025/Manual%20de%20Normas%20y%20Lineamientos%20para%20el%20Ejercicio%20de%20los%20Recursos%20del%20Gasto%20de%20Operacion%202025.pdf | AH19: Departamento de Finanzas (UTMZ) | AI19: 46213
A20: 2026 | B20: 46113 | C20: 46203 | D20: Personal de confianza | E20: 9 | F20: Jefa de departamento (Jefatura de departamento) | G20: Jefa del Departamento de Finanzas de la Universidad Tecnológica Minera de Zimapán | H20: Dirección de Administración y Finanzas | I20: Minerva | J20: Hernández | K20: Pérez | L20: Mujer | M20: Viáticos | N20: Asistir a la Ciudad de Pachuca, a reunión de trabajo para la integración del Paquete Hacendario 2027. | O20: Nacional | P20: 0 | Q20: 0 | R20: México | S20: Hidalgo | T20: Zimapán | U20: México | V20: Hidalgo | W20: Ciudad de Pachuca | X20: Asistir a la Ciudad de Pachuca, a reunión de trabajo para la integración del Paquete Hacendario 2027. | Y20: 46163 | Z20: 46163 | AA20: 13 | AB20: 138.47 | AC20: 0 | AD20: 46167 | AE20: https://www.utmz.edu.mx/pages/transparencia/finanzas/2026/2trim/F9/Informes/Informe13.pdf | AF20: 13 | AG20: https://hacienda.hidalgo.gob.mx/files/servicios/pdf/EjerciciodelPresupuesto/2025/Manual%20de%20Normas%20y%20Lineamientos%20para%20el%20Ejercicio%20de%20los%20Recursos%20del%20Gasto%20de%20Operacion%202025.pdf | AH20: Departamento de Finanzas (UTMZ) | AI20: 46213
A21: 2026 | B21: 46113 | C21: 46203 | D21: Personal de confianza | E21: 11 | F21: Directora de área (Dirección de área) | G21: Directora de Administración y Finanzas de la Universidad Tecnológica Minera de Zimapán | H21: Dirección de Administración y Finanzas | I21: Olivia Nazareth | J21: Ramírez | K21: Alvarado | L21: Mujer | M21: Viáticos | N21: Asistir a la Ciudad de Pachuca, a taller de orientación y capacitación para la integración del Paquete Hacendario 2027. | O21: Nacional | P21: 0 | Q21: 0 | R21: México | S21: Hidalgo | T21: Zimapán | U21: México | V21: Hidalgo | W21: Ciudad de Pachuca | X21: Asistir a la Ciudad de Pachuca, a taller de orientación y capacitación para la integración del Paquete Hacendario 2027. | Y21: 46163 | Z21: 46163 | AA21: 14 | AB21: 138.46 | AC21: 0 | AD21: 46167 | AE21: https://www.utmz.edu.mx/pages/transparencia/finanzas/2026/2trim/F9/Informes/Informe14.pdf | AF21: 14 | AG21: https://hacienda.hidalgo.gob.mx/files/servicios/pdf/EjerciciodelPresupuesto/2025/Manual%20de%20Normas%20y%20Lineamientos%20para%20el%20Ejercicio%20de%20los%20Recursos%20del%20Gasto%20de%20Operacion%202025.pdf | AH21: Departamento de Finanzas (UTMZ) | AI21: 46213
A22: 2026 | B22: 46113 | C22: 46203 | D22: Personal de confianza | E22: 6A | F22: Analista Administrativo | G22: Analista Administrativo de la Universidad Tecnológica Minera de Zimapán | H22: Dirección de Administración y Finanzas | I22: Ricardo Enrique | J22: Alvarado | K22: Cruz | L22: Hombre | M22: Viáticos | N22: Asistir a la Ciudad de Pachuca, a entregar información a SEMSyS y recoger información, así como, entregar contrato a la empresa MEXLINE. | O22: Nacional | P22: 0 | Q22: 0 | R22: México | S22: Hidalgo | T22: Zimapán | U22: México | V22: Hidalgo | W22: Ciudad de Pachuca | X22: Asistir a la Ciudad de Pachuca, a entregar información a SEMSyS y recoger información, así como, entregar contrato a la empresa MEXLINE. | Y22: 46160 | Z22: 46160 | AA22: 15 | AB22: 130 | AC22: 0 | AD22: 46163 | AE22: https://www.utmz.edu.mx/pages/transparencia/finanzas/2026/2trim/F9/Informes/Informe15.pdf | AF22: 15 | AG22: https://hacienda.hidalgo.gob.mx/files/servicios/pdf/EjerciciodelPresupuesto/2025/Manual%20de%20Normas%20y%20Lineamientos%20para%20el%20Ejercicio%20de%20los%20Recursos%20del%20Gasto%20de%20Operacion%202025.pdf | AH22: Departamento de Finanzas (UTMZ) | AI22: 46213
A23: 2026 | B23: 46113 | C23: 46203 | D23: Personal de confianza | E23: D-11AC | F23: Profesora de Tiempo Completo Asociado C | G23: Profesora de Tiempo Completo de la Universidad Tecnológica Minera de Zimapán | H23: Dirección Académica | I23: Enedelia | J23: Martínez | K23: Pérez | L23: Mujer | M23: Viáticos | N23: Asistir a la Ciudad de Pachuca, a participar con dos estudiantes del Programa Educativo de Turismo en el Consejo Coordinador Empresarial del Estado de Hidalgo. | O23: Nacional | P23: 0 | Q23: 0 | R23: México | S23: Hidalgo | T23: Zimapán | U23: México | V23: Hidalgo | W23: Ciudad de Pachuca | X23: Asistir a la Ciudad de Pachuca, a participar con dos estudiantes del Programa Educativo de Turismo en el Consejo Coordinador Empresarial del Estado de Hidalgo. | Y23: 46170 | Z23: 46170 | AA23: 16 | AB23: 128.56 | AC23: 0 | AD23: 46175 | AE23: https://www.utmz.edu.mx/pages/transparencia/finanzas/2026/2trim/F9/Informes/Informe16.pdf | AF23: 16 | AG23: https://hacienda.hidalgo.gob.mx/files/servicios/pdf/EjerciciodelPresupuesto/2025/Manual%20de%20Normas%20y%20Lineamientos%20para%20el%20Ejercicio%20de%20los%20Recursos%20del%20Gasto%20de%20Operacion%202025.pdf | AH23: Departamento de Finanzas (UTMZ) | AI23: 46213
A24: 2026 | B24: 46113 | C24: 46203 | D24: Personal de confianza | E24: D-A11B | F24: Profesor de Asignatura | G24: Profesor de Asignatura de la Universidad Tecnológica Minera de Zimapán | H24: Dirección Académica | I24: Erick Iván | J24: Rivera | K24: Villanueva | L24: Hombre | M24: Viáticos | N24: Asistir a la Ciudad de Pachuca, al CITNOVA para Registro de Expedientes – Fondo Hidalgo Ciencia y Tecnología. | O24: Nacional | P24: 0 | Q24: 0 | R24: México | S24: Hidalgo | T24: Zimapán | U24: México | V24: Hidalgo | W24: Ciudad de Pachuca | X24: Asistir a la Ciudad de Pachuca, al CITNOVA para Registro de Expedientes – Fondo Hidalgo Ciencia y Tecnología. | Y24: 46163 | Z24: 46163 | AA24: 17 | AB24: 128.56 | AC24: 0 | AD24: 46170 | AE24: https://www.utmz.edu.mx/pages/transparencia/finanzas/2026/2trim/F9/Informes/Informe17.pdf | AF24: 17 | AG24: https://hacienda.hidalgo.gob.mx/files/servicios/pdf/EjerciciodelPresupuesto/2025/Manual%20de%20Normas%20y%20Lineamientos%20para%20el%20Ejercicio%20de%20los%20Recursos%20del%20Gasto%20de%20Operacion%202025.pdf | AH24: Departamento de Finanzas (UTMZ) | AI24: 46213
A25: 2026 | B25: 46113 | C25: 46203 | D25: Personal de confianza | E25: 6A | F25: Analista Administrativo | G25: Analista Administrativo de la Universidad Tecnológica Minera de Zimapán | H25: Dirección de Administración y Finanzas | I25: Ricardo Enrique | J25: Alvarado | K25: Cruz | L25: Hombre | M25: Viáticos | N25: Asistir a la Ciudad de Pachuca, a llevar personal autorizado al evento en el Consejo Coordinador Empresarial, denominado “Presidente por un día”. | O25: Nacional | P25: 0 | Q25: 0 | R25: México | S25: Hidalgo | T25: Zimapán | U25: México | V25: Hidalgo | W25: Ciudad de Pachuca | X25: Asistir a la Ciudad de Pachuca, a llevar personal autorizado al evento en el Consejo Coordinador Empresarial, denominado “Presidente por un día”. | Y25: 46170 | Z25: 46170 | AA25: 18 | AB25: 130 | AC25: 0 | AD25: 46175 | AE25: https://www.utmz.edu.mx/pages/transparencia/finanzas/2026/2trim/F9/Informes/Informe18.pdf | AF25: 18 | AG25: https://hacienda.hidalgo.gob.mx/files/servicios/pdf/EjerciciodelPresupuesto/2025/Manual%20de%20Normas%20y%20Lineamientos%20para%20el%20Ejercicio%20de%20los%20Recursos%20del%20Gasto%20de%20Operacion%202025.pdf | AH25: Departamento de Finanzas (UTMZ) | AI25: 46213
A26: 2026 | B26: 46113 | C26: 46203 | D26: Personal de confianza | E26: 8A | F26: Chofer | G26: Chofer de la Universidad Tecnológica Minera de Zimapán | H26: Dirección de Administración y Finanzas | I26: Bonifacio | J26: Hernández | K26: Cordero | L26: Hombre | M26: Viáticos | N26: Asistir a Atotonilco el Grande, a Ex Hacienda el Zoquital a llevar alumnos y personal de la Universidad al festival del cordero. | O26: Nacional | P26: 0 | Q26: 0 | R26: México | S26: Hidalgo | T26: Zimapán | U26: México | V26: Hidalgo | W26: Atotonilco el Grande | X26: Asistir a Atotonilco el Grande, a Ex Hacienda el Zoquital a llevar alumnos y personal de la Universidad al festival del cordero. | Y26: 46157 | Z26: 46157 | AA26: 19 | AB26: 130 | AC26: 0 | AD26: 46157 | AE26: https://www.utmz.edu.mx/pages/transparencia/finanzas/2026/2trim/F9/Informes/Informe19.pdf | AF26: 19 | AG26: https://hacienda.hidalgo.gob.mx/files/servicios/pdf/EjerciciodelPresupuesto/2025/Manual%20de%20Normas%20y%20Lineamientos%20para%20el%20Ejercicio%20de%20los%20Recursos%20del%20Gasto%20de%20Operacion%202025.pdf | AH26: Departamento de Finanzas (UTMZ) | AI26: 46213
A27: 2026 | B27: 46113 | C27: 46203 | D27: Personal de confianza | E27: 8A | F27: Chofer | G27: Chofer de la Universidad Tecnológica Minera de Zimapán | H27: Dirección de Administración y Finanzas | I27: Bonifacio | J27: Hernández | K27: Cordero | L27: Hombre | M27: Viáticos | N27: Asistir a Mineral de la Reforma, a evento de trabajos relativos a la integración del paquete hacendario 2027. | O27: Nacional | P27: 0 | Q27: 0 | R27: México | S27: Hidalgo | T27: Zimapán | U27: México | V27: Hidalgo | W27: Mineral de la Reforma | X27: Asistir a Mineral de la Reforma, a evento de trabajos relativos a la integración del paquete hacendario 2027. | Y27: 46163 | Z27: 46163 | AA27: 20 | AB27: 128.58 | AC27: 0 | AD27: 46164 | AE27: https://www.utmz.edu.mx/pages/transparencia/finanzas/2026/2trim/F9/Informes/Informe20.pdf | AF27: 20 | AG27: https://hacienda.hidalgo.gob.mx/files/servicios/pdf/EjerciciodelPresupuesto/2025/Manual%20de%20Normas%20y%20Lineamientos%20para%20el%20Ejercicio%20de%20los%20Recursos%20del%20Gasto%20de%20Operacion%202025.pdf | AH27: Departamento de Finanzas (UTMZ) | AI27: 46213
A28: 2026 | B28: 46113 | C28: 46203 | D28: Personal de confianza | E28: 8A | F28: Asistente de servicios y mantenimiento | G28: Asistente de servicios y mantenimiento de la Universidad Tecnológica Minera de Zimapán | H28: Dirección de Administración y Finanzas | I28: María Concepción | J28: Trejo | K28: Martínez | L28: Mujer | M28: Viáticos | N28: Asistir a Atotonilco el Grande, a Ex Hacienda el Zoquital a llevar alumnos y personal de la Universidad al festival del cordero. | O28: Nacional | P28: 0 | Q28: 0 | R28: México | S28: Hidalgo | T28: Zimapán | U28: México | V28: Hidalgo | W28: Atotonilco el Grande | X28: Asistir a Atotonilco el Grande, a Ex Hacienda el Zoquital a llevar alumnos y personal de la Universidad al festival del cordero. | Y28: 46157 | Z28: 46157 | AA28: 21 | AB28: 130 | AC28: 0 | AD28: 46157 | AE28: https://www.utmz.edu.mx/pages/transparencia/finanzas/2026/2trim/F9/Informes/Informe21.pdf | AF28: 21 | AG28: https://hacienda.hidalgo.gob.mx/files/servicios/pdf/EjerciciodelPresupuesto/2025/Manual%20de%20Normas%20y%20Lineamientos%20para%20el%20Ejercicio%20de%20los%20Recursos%20del%20Gasto%20de%20Operacion%202025.pdf | AH28: Departamento de Finanzas (UTMZ) | AI28: 46213
A29: 2026 | B29: 46113 | C29: 46203 | D29: Personal de confianza | E29: 9 | F29: Jefa de departamento (Jefatura de departamento) | G29: Jefa del Departamento Jurídico de la Universidad Tecnológica Minera de Zimapán | H29: Dirección de Vinculación | I29: María Guadalupe | J29: Contreras | K29: Contreras | L29: Mujer | M29: Viáticos | N29: Asistir a la Ciudad de Pachuca, a la Dirección General de Educación Superior, donde se dieron instrucciones para capacitación en materia laboral. | O29: Nacional | P29: 0 | Q29: 0 | R29: México | S29: Hidalgo | T29: Zimapán | U29: México | V29: Hidalgo | W29: Ciudad de Pachuca | X29: Asistir a la Ciudad de Pachuca, a la Dirección General de Educación Superior, donde se dieron instrucciones para capacitación en materia laboral. | Y29: 46177 | Z29: 46177 | AA29: 22 | AB29: 130 | AC29: 0 | AD29: 46189 | AE29: https://www.utmz.edu.mx/pages/transparencia/finanzas/2026/2trim/F9/Informes/Informe22.pdf | AF29: 22 | AG29: https://hacienda.hidalgo.gob.mx/files/servicios/pdf/EjerciciodelPresupuesto/2025/Manual%20de%20Normas%20y%20Lineamientos%20para%20el%20Ejercicio%20de%20los%20Recursos%20del%20Gasto%20de%20Operacion%202025.pdf | AH29: Departamento de Finanzas (UTMZ) | AI29: 46213
A30: 2026 | B30: 46113 | C30: 46203 | D30: Personal de confianza | E30: D-11AC | F30: Profesora de Tiempo Completo Asociado C | G30: Profesora de Tiempo Completo de la Universidad Tecnológica Minera de Zimapán | H30: Dirección Académica | I30: Enedelia | J30: Martínez | K30: Pérez | L30: Mujer | M30: Viáticos | N30: Asistir a la Ciudad de Pachuca, con el personal de la institución a ña entrega de proyectos CITNOVA Fondo Hidalgo. | O30: Nacional | P30: 0 | Q30: 0 | R30: México | S30: Hidalgo | T30: Zimapán | U30: México | V30: Hidalgo | W30: Ciudad de Pachuca | X30: Asistir a la Ciudad de Pachuca, con el personal de la institución a ña entrega de proyectos CITNOVA Fondo Hidalgo. | Y30: 46163 | Z30: 46163 | AA30: 23 | AB30: 130 | AC30: 0 | AD30: 46169 | AE30: https://www.utmz.edu.mx/pages/transparencia/finanzas/2026/2trim/F9/Informes/Informe23.pdf | AF30: 23 | AG30: https://hacienda.hidalgo.gob.mx/files/servicios/pdf/EjerciciodelPresupuesto/2025/Manual%20de%20Normas%20y%20Lineamientos%20para%20el%20Ejercicio%20de%20los%20Recursos%20del%20Gasto%20de%20Operacion%202025.pdf | AH30: Departamento de Finanzas (UTMZ) | AI30: 46213

Sheet Hidden_1
A1: Funcionario [a]
A2: Servidor(a) público(a)
A3: Servidor[a] público[a] eventual
A4: Integrante
A5: Empleado [a]
A6: Representante popular
A7: Integrante del poder judicial
A8: Integrante de órgano autónomo
A9: Personal de confianza
A10: Prestador[a] de servicios profesionales
A11: Otro

Sheet Hidden_2
A1: Hombre
A2: Mujer

Sheet Hidden_3
A1: Viáticos
A2: Representación

Sheet Hidden_4
A1: Nacional
A2: Internacional

Sheet Tabla_350055
B1: 1 | C1: 2 | D1: 6
B2: 45265 | C2: 45266 | D2: 45267
A3: ID | B3: Clave de la partida de cada uno de los conceptos correspondientes | C3: Denominación de la partida de cada uno de los conceptos correspondientes | D3: Importe ejercido erogado por concepto de gastos de viáticos o gastos de representación
A4: 1 | C4: ='Reporte de Formatos'!M8 -> Viáticos | D4: ='Reporte de Formatos'!AB8 -> 130
A5: 2 | C5: ='Reporte de Formatos'!M9 -> Viáticos | D5: ='Reporte de Formatos'!AB9 -> 130
A6: 3 | C6: ='Reporte de Formatos'!M10 -> Viáticos | D6: ='Reporte de Formatos'!AB10 -> 540
A7: 4 | C7: ='Reporte de Formatos'!M11 -> Viáticos | D7: ='Reporte de Formatos'!AB11 -> 128.58
A8: 5 | C8: ='Reporte de Formatos'!M12 -> Viáticos | D8: ='Reporte de Formatos'!AB12 -> 128.58
A9: 6 | C9: ='Reporte de Formatos'!M13 -> Viáticos | D9: ='Reporte de Formatos'!AB13 -> 130
A10: 7 | C10: ='Reporte de Formatos'!M14 -> Viáticos | D10: ='Reporte de Formatos'!AB14 -> 130
A11: 8 | C11: ='Reporte de Formatos'!M15 -> Viáticos | D11: ='Reporte de Formatos'!AB15 -> 124
A12: 9 | C12: ='Reporte de Formatos'!M16 -> Viáticos | D12: ='Reporte de Formatos'!AB16 -> 120
A13: 10 | C13: ='Reporte de Formatos'!M17 -> Viáticos | D13: ='Reporte de Formatos'!AB17 -> 124
A14: 11 | C14: ='Reporte de Formatos'!M18 -> Viáticos | D14: ='Reporte de Formatos'!AB18 -> 129
A15: 12 | C15: ='Reporte de Formatos'!M19 -> Viáticos | D15: ='Reporte de Formatos'!AB19 -> 130
... A26: 23 | C26: ='Reporte de Formatos'!M30 -> Viáticos | D26: ='Reporte de Formatos'!AB30 -> 130

Sheet Tabla_350056
B1: 7
B2: 45270
A3: ID | B3: Hipervínculo a las facturas o comprobantes
A4: 1 | B4: https://www.utmz.edu.mx/pages/transparencia/finanzas/2026/2trim/F9/Viaticos/Factura01.pdf
A5: 2 | B5: https://www.utmz.edu.mx/pages/transparencia/finanzas/2026/2trim/F9/Viaticos/Factura02.pdf
A6: 3 | B6: https://www.utmz.edu.mx/pages/transparencia/finanzas/2026/2trim/F9/Viaticos/Factura03.pdf
A7: 4 | B7: https://www.utmz.edu.mx/pages/transparencia/finanzas/2026/2trim/F9/Viaticos/Factura04.pdf
A8: 5 | B8: https://www.utmz.edu.mx/pages/transparencia/finanzas/2026/2trim/F9/Viaticos/Factura05.pdf
A9: 6 | B9: https://www.utmz.edu.mx/pages/transparencia/finanzas/2026/2trim/F9/Viaticos/Factura06.pdf
A10: 7 | B10: https://www.utmz.edu.mx/pages/transparencia/finanzas/2026/2trim/F9/Viaticos/Factura07.pdf
A11: 8 | B11: https://www.utmz.edu.mx/pages/transparencia/finanzas/2026/2trim/F9/Viaticos/Factura08.pdf
A12: 9 | B12: https://www.utmz.edu.mx/pages/transparencia/finanzas/2026/2trim/F9/Viaticos/Factura09.pdf
A13: 10 | B13: https://www.utmz.edu.mx/pages/transparencia/finanzas/2026/2trim/F9/Viaticos/Factura10.pdf
A14: 11 | B14: https://www.utmz.edu.mx/pages/transparencia/finanzas/2026/2trim/F9/Viaticos/Factura11.pdf
A15: 12 | B15: https://www.utmz.edu.mx/pages/transparencia/finanzas/2026/2trim/F9/Viaticos/Factura12.pdf
... A26: 23 | B26: https://www.utmz.edu.mx/pages/transparencia/finanzas/2026/2trim/F9/Viaticos/Factura23.pdf
